BEGIN:VCALENDAR
VERSION:2.0
PRODID:-//eventon.com NONSGML v1.0//EN
CALSCALE:GREGORIAN
METHOD:PUBLISH
BEGIN:VEVENT
UID:69e734c3be3ee
DTSTAMP:20260421T082643Z
DTSTART:20240223T160000Z
DTEND:20240223T225000Z
LOCATION:Schlossberg Luckau Nordpromenade 20\,  15926 Luckau
SUMMARY:Timeless Show Generalprobe
DESCRIPTION:\nhttps://tanzstudio77.de/events/timeless-show-generalprobe-2/
URL:https://tanzstudio77.de/events/timeless-show-generalprobe-2/
END:VEVENT
END:VCALENDAR