BEGIN:VCALENDAR
VERSION:2.0
PRODID:-//eventon.com NONSGML v1.0//EN
CALSCALE:GREGORIAN
METHOD:PUBLISH
BEGIN:VEVENT
UID:69eb6f93d58d1
DTSTAMP:20260424T132643Z
DTSTART:20260412T090000Z
DTEND:20260412T215900Z
LOCATION:Laga-Park Luckau Südpromenade 15\,  15926 Luckau
SUMMARY:Tulpenfest im Laga-Park
DESCRIPTION:\nhttps://tanzstudio77.de/events/tulpenfest-im-laga-park/
URL:https://tanzstudio77.de/events/tulpenfest-im-laga-park/
END:VEVENT
END:VCALENDAR