BEGIN:VCALENDAR
VERSION:2.0
PRODID:-//eventon.com NONSGML v1.0//EN
CALSCALE:GREGORIAN
METHOD:PUBLISH
BEGIN:VEVENT
UID:69eb6f8a5f687
DTSTAMP:20260424T132634Z
DTSTART:20260509
DTEND:20260510
LOCATION:Schlossberg Luckau Nordpromenade 20\,  15926 Luckau
SUMMARY:Jugendweihen - Oberschule Luckau
DESCRIPTION:\nhttps://tanzstudio77.de/events/jugendweihen-oberschule-luckau
 -2/
URL:https://tanzstudio77.de/events/jugendweihen-oberschule-luckau-2/
END:VEVENT
END:VCALENDAR