BEGIN:VCALENDAR
VERSION:2.0
PRODID:-//eventon.com NONSGML v1.0//EN
CALSCALE:GREGORIAN
METHOD:PUBLISH
BEGIN:VEVENT
UID:69eb6f41c5517
DTSTAMP:20260424T132521Z
DTSTART:20260516
DTEND:20260517
LOCATION:Schlossberg Luckau Nordpromenade 20\,  15926 Luckau
SUMMARY:Jugendweihen - Gymnasium Luckau
DESCRIPTION:\nhttps://tanzstudio77.de/events/jugendweihen-gymnasium-luckau-
 2/
URL:https://tanzstudio77.de/events/jugendweihen-gymnasium-luckau-2/
END:VEVENT
END:VCALENDAR