BEGIN:VCALENDAR
VERSION:2.0
PRODID:-//eventon.com NONSGML v1.0//EN
CALSCALE:GREGORIAN
METHOD:PUBLISH
BEGIN:VEVENT
UID:69eb6f843ea3a
DTSTAMP:20260424T132628Z
DTSTART:20260426T120000Z
DTEND:20260426T215900Z
LOCATION:Gewerbegebiet Luckau Ost Luckau Nissanstraße
SUMMARY:„Best of“auf der Leistungsschau
DESCRIPTION:mit unserem Kinder- und Jugendensemble\nhttps://tanzstudio77.de
 /events/best-ofauf-der-leistungsschau/
URL:https://tanzstudio77.de/events/best-ofauf-der-leistungsschau/
END:VEVENT
END:VCALENDAR