BEGIN:VCALENDAR
VERSION:2.0
PRODID:-//eventon.com NONSGML v1.0//EN
CALSCALE:GREGORIAN
METHOD:PUBLISH
BEGIN:VEVENT
UID:69eb6f843e706
DTSTAMP:20260424T132628Z
DTSTART:20260514T130000Z
DTEND:20260514T215900Z
LOCATION:
SUMMARY:Herrentag in Gehren
DESCRIPTION:mit unserer Jugend und den Showtänzern\nhttps://tanzstudio77.d
 e/events/herrentag-in-gehren/
URL:https://tanzstudio77.de/events/herrentag-in-gehren/
END:VEVENT
END:VCALENDAR