BEGIN:VCALENDAR
VERSION:2.0
PRODID:-//eventon.com NONSGML v1.0//EN
CALSCALE:GREGORIAN
METHOD:PUBLISH
BEGIN:VEVENT
UID:69eb6f8a5eaa3
DTSTAMP:20260424T132634Z
DTSTART:20260607T120000Z
DTEND:20260607T215900Z
LOCATION:Waldbühne Gehren Gehren An der Waldbühne 1\,  15926 Heideblick
SUMMARY:800-Jahre Wüstermarke
DESCRIPTION:\nhttps://tanzstudio77.de/events/800-jahre-wuestermarke/
URL:https://tanzstudio77.de/events/800-jahre-wuestermarke/
END:VEVENT
END:VCALENDAR