BEGIN:VCALENDAR
VERSION:2.0
PRODID:-//eventon.com NONSGML v1.0//EN
CALSCALE:GREGORIAN
METHOD:PUBLISH
BEGIN:VEVENT
UID:69eb6f93d3830
DTSTAMP:20260424T132643Z
DTSTART:20260614T153000Z
DTEND:20260614T215900Z
LOCATION:Schlossberg Luckau Nordpromenade 20\,  15926 Luckau
SUMMARY:Abschluss 750 Jahre Luckau
DESCRIPTION:\nhttps://tanzstudio77.de/events/abschluss-750-jahre-luckau/
URL:https://tanzstudio77.de/events/abschluss-750-jahre-luckau/
END:VEVENT
END:VCALENDAR